BEGIN:VCALENDAR
VERSION:2.0
PRODID:-//SV Sportförderung - ECPv6.15.11//NONSGML v1.0//EN
CALSCALE:GREGORIAN
METHOD:PUBLISH
X-WR-CALNAME:SV Sportförderung
X-ORIGINAL-URL:https://www.sv-sportfoerderung.de
X-WR-CALDESC:Veranstaltungen für SV Sportförderung
REFRESH-INTERVAL;VALUE=DURATION:PT1H
X-Robots-Tag:noindex
X-PUBLISHED-TTL:PT1H
BEGIN:VTIMEZONE
TZID:Europe/Berlin
BEGIN:DAYLIGHT
TZOFFSETFROM:+0100
TZOFFSETTO:+0200
TZNAME:CEST
DTSTART:20240331T010000
END:DAYLIGHT
BEGIN:STANDARD
TZOFFSETFROM:+0200
TZOFFSETTO:+0100
TZNAME:CET
DTSTART:20241027T010000
END:STANDARD
BEGIN:DAYLIGHT
TZOFFSETFROM:+0100
TZOFFSETTO:+0200
TZNAME:CEST
DTSTART:20250330T010000
END:DAYLIGHT
BEGIN:STANDARD
TZOFFSETFROM:+0200
TZOFFSETTO:+0100
TZNAME:CET
DTSTART:20251026T010000
END:STANDARD
BEGIN:DAYLIGHT
TZOFFSETFROM:+0100
TZOFFSETTO:+0200
TZNAME:CEST
DTSTART:20260329T010000
END:DAYLIGHT
BEGIN:STANDARD
TZOFFSETFROM:+0200
TZOFFSETTO:+0100
TZNAME:CET
DTSTART:20261025T010000
END:STANDARD
END:VTIMEZONE
BEGIN:VEVENT
DTSTART;TZID=Europe/Berlin:20251123T103000
DTEND;TZID=Europe/Berlin:20251123T153000
DTSTAMP:20260425T132755
CREATED:20251023T063449Z
LAST-MODIFIED:20251030T054057Z
UID:1803-1763893800-1763911800@www.sv-sportfoerderung.de
SUMMARY:SV Tischtennis-Erlebnistag in Schotten
DESCRIPTION:Online-Anmeldungen:\nNutzen Sie das Bild unterhalb dieses Textes als Link zur Anmeldung.\n \nFür Mädchen und Jungen von 6-16 Jahren \nGastgeber: TV Eichelsdorf\, TGV Schotten & Vogelsbergschule Schotten\nmit freundlicher Unterstützung: SV Geschäftsstellen Oberhessen Nord & Süd \n  \nIm Teilnehmerbeitrag ab 35\,00 Euro sind enthalten: \n\nJOOLA Trikot & Short\nTraining mit dem Bundestrainer Jörg Roßkopf\nVerpflegung während des Erlebnistag\nviel\, viel Spaß\n\nInformationen & Anmeldungen:\nSV Tischtennis\nJörg-Friedrich Schmidt\n0170 / 938 04 16\nj.schmidt@sv-sportfoerderung.de
URL:https://www.sv-sportfoerderung.de/event/sv-tischtennis-erlebnistag-in-schotten/
LOCATION:Sporthalle der Vogelsbergschule Schotten\, Lindenweg 19\, Schotten\, 63679\, Germany
CATEGORIES:Tischtennis
ATTACH;FMTTYPE=image/jpeg:https://www.sv-sportfoerderung.de/wp-content/uploads/2023/02/TT-WM08-Rossi-ret-2.jpg
END:VEVENT
END:VCALENDAR