BEGIN:VCALENDAR
VERSION:2.0
PRODID:-//SV Sportförderung - ECPv6.15.11//NONSGML v1.0//EN
CALSCALE:GREGORIAN
METHOD:PUBLISH
X-ORIGINAL-URL:https://www.sv-sportfoerderung.de
X-WR-CALDESC:Veranstaltungen für SV Sportförderung
REFRESH-INTERVAL;VALUE=DURATION:PT1H
X-Robots-Tag:noindex
X-PUBLISHED-TTL:PT1H
BEGIN:VTIMEZONE
TZID:Europe/Berlin
BEGIN:DAYLIGHT
TZOFFSETFROM:+0100
TZOFFSETTO:+0200
TZNAME:CEST
DTSTART:20250330T010000
END:DAYLIGHT
BEGIN:STANDARD
TZOFFSETFROM:+0200
TZOFFSETTO:+0100
TZNAME:CET
DTSTART:20251026T010000
END:STANDARD
BEGIN:DAYLIGHT
TZOFFSETFROM:+0100
TZOFFSETTO:+0200
TZNAME:CEST
DTSTART:20260329T010000
END:DAYLIGHT
BEGIN:STANDARD
TZOFFSETFROM:+0200
TZOFFSETTO:+0100
TZNAME:CET
DTSTART:20261025T010000
END:STANDARD
BEGIN:DAYLIGHT
TZOFFSETFROM:+0100
TZOFFSETTO:+0200
TZNAME:CEST
DTSTART:20270328T010000
END:DAYLIGHT
BEGIN:STANDARD
TZOFFSETFROM:+0200
TZOFFSETTO:+0100
TZNAME:CET
DTSTART:20271031T010000
END:STANDARD
END:VTIMEZONE
BEGIN:VEVENT
DTSTART;VALUE=DATE:20260410
DTEND;VALUE=DATE:20260413
DTSTAMP:20260425T053531
CREATED:20251113T141147Z
LAST-MODIFIED:20251130T123909Z
UID:1814-1775779200-1776038399@www.sv-sportfoerderung.de
SUMMARY:SV Fußballcamp beim SC 1919 Lispenhausen
DESCRIPTION:Online-Anmeldungen:\nNutzen Sie das Bild unterhalb dieses Textes als Link zur Anmeldung.\n \nCamp-Details:\nFür Mädchen und Jungen von 6-14 Jahren \nGastgeber: SC 1919 Lispenhausen\nmit freundlicher Unterstützung: SV Generalagentur Jochen Rehs aus Bebra  \nIm Teilnehmerbeitrag von 99\,- Euro sind enthalten: \n\nAusrüstungspaket von JAKO (Trikot\, Hose\, Stutzen\, Trinkflasche und Fußball)\nprofessionelle Trainingseinheiten mit lizenzierten Trainern\nTop-Trainingsmaterial\nVerpflegung während des gesamten Camps\nviel\, viel Spaß\n\nInformationen & Anmeldungen:\nSV Fußballschule\nJörg-Friedrich Schmidt\, Leiter der SV Fußballschule\n0170 / 938 04 16\nj.schmidt@sv-sportfoerderung.de \nDein Trainerteam\nGuido BuchwaldWeltmeisterHerbert AppelTrainerWolfgang BartuschCheftrainerUli ZinkeTrainerJörg-Friedrich SchmidtLeiter SV FußballschuleUwe ZenknerTrainerJürgen HartmannTrainerSandro MohrTrainer
URL:https://www.sv-sportfoerderung.de/event/sv-fussballcamp-beim-sc-1919-lispenhausen/
LOCATION:SC 1919 Lispenhausen -Sportplatz\, Am Sportplatz\, Rotenburg an der Fulda\, Hessen\, 36199
CATEGORIES:Fußball
ATTACH;FMTTYPE=image/jpeg:https://www.sv-sportfoerderung.de/wp-content/uploads/2019/01/sv_fussballcamp-event-cover.jpg
ORGANIZER;CN="SC 1919 Lispenhausen":MAILTO:manuel.bachmann@t-online.de
END:VEVENT
END:VCALENDAR