BEGIN:VCALENDAR
VERSION:2.0
PRODID:-//SV Sportförderung - ECPv6.15.11//NONSGML v1.0//EN
CALSCALE:GREGORIAN
METHOD:PUBLISH
X-WR-CALNAME:SV Sportförderung
X-ORIGINAL-URL:https://www.sv-sportfoerderung.de
X-WR-CALDESC:Veranstaltungen für SV Sportförderung
REFRESH-INTERVAL;VALUE=DURATION:PT1H
X-Robots-Tag:noindex
X-PUBLISHED-TTL:PT1H
BEGIN:VTIMEZONE
TZID:Europe/Berlin
BEGIN:DAYLIGHT
TZOFFSETFROM:+0100
TZOFFSETTO:+0200
TZNAME:CEST
DTSTART:20250330T010000
END:DAYLIGHT
BEGIN:STANDARD
TZOFFSETFROM:+0200
TZOFFSETTO:+0100
TZNAME:CET
DTSTART:20251026T010000
END:STANDARD
BEGIN:DAYLIGHT
TZOFFSETFROM:+0100
TZOFFSETTO:+0200
TZNAME:CEST
DTSTART:20260329T010000
END:DAYLIGHT
BEGIN:STANDARD
TZOFFSETFROM:+0200
TZOFFSETTO:+0100
TZNAME:CET
DTSTART:20261025T010000
END:STANDARD
BEGIN:DAYLIGHT
TZOFFSETFROM:+0100
TZOFFSETTO:+0200
TZNAME:CEST
DTSTART:20270328T010000
END:DAYLIGHT
BEGIN:STANDARD
TZOFFSETFROM:+0200
TZOFFSETTO:+0100
TZNAME:CET
DTSTART:20271031T010000
END:STANDARD
END:VTIMEZONE
BEGIN:VEVENT
DTSTART;VALUE=DATE:20260508
DTEND;VALUE=DATE:20260511
DTSTAMP:20260424T163331
CREATED:20251113T141846Z
LAST-MODIFIED:20251130T123948Z
UID:1821-1778198400-1778457599@www.sv-sportfoerderung.de
SUMMARY:SV Fußballcamp beim SSV Oranien Frohnhausen
DESCRIPTION:Online-Anmeldungen:\nNutzen Sie das Bild unterhalb dieses Textes als Link zur Anmeldung.\n \nCamp-Details:\nFür Mädchen und Jungen von 6-14 Jahren \nGastgeber: SSV Oranien Frohnhausen \nmit freundlicher Unterstützung: SV Team Schaffner \nIm Teilnehmerbeitrag von 99\,- Euro sind enthalten: \n\nAusrüstungspaket von JAKO (Trikot\, Hose\, Stutzen\, Trinkflasche und Fußball)\nprofessionelle Trainingseinheiten mit lizenzierten Trainern\nTop-Trainingsmaterial\nVerpflegung während des gesamten Camps\nviel\, viel Spaß\n\nInformationen & Anmeldungen:\nSV Fußballschule\nJörg-Friedrich Schmidt\, Leiter der SV Fußballschule\n0170 / 938 04 16\nj.schmidt@sv-sportfoerderung.de \nDein Trainerteam\nGuido BuchwaldWeltmeisterHerbert AppelTrainerWolfgang BartuschCheftrainerUli ZinkeTrainerJörg-Friedrich SchmidtLeiter SV FußballschuleUwe ZenknerTrainerJürgen HartmannTrainerSandro MohrTrainer
URL:https://www.sv-sportfoerderung.de/event/sv-fussballcamp-beim-ssv-oranien-frohnhausen/
LOCATION:SSV Oranien Frohnhausen – Sportplatz\, Industriestr. 17\, Dillenburg\, Hessen\, 35684
CATEGORIES:Fußball
ATTACH;FMTTYPE=image/jpeg:https://www.sv-sportfoerderung.de/wp-content/uploads/2019/01/sv_fussballcamp-event-cover.jpg
ORGANIZER;CN="SSV Oranien Frohnhausen":MAILTO:info@ssv-oranien.de
END:VEVENT
BEGIN:VEVENT
DTSTART;VALUE=DATE:20260526
DTEND;VALUE=DATE:20260528
DTSTAMP:20260424T163331
CREATED:20251114T071718Z
LAST-MODIFIED:20251130T123819Z
UID:1828-1779753600-1779926399@www.sv-sportfoerderung.de
SUMMARY:SV Fußballcamp beim 1. FC Altburg
DESCRIPTION:Online-Anmeldungen:\nNutzen Sie das Bild unterhalb dieses Textes als Link zur Anmeldung.\n \nCamp-Details:\nFür Mädchen und Jungen von 6-15 Jahren \nGastgeber:1. FC Altburg\nmit freundlicher Unterstützung: SV Team Calw  \nIm Teilnehmerbeitrag von 109\,- Euro sind enthalten: \n\nAusrüstungspaket von JAKO (Trikot\, Hose\, Stutzen\, Trinkflasche und Fußball)\nprofessionelle Trainingseinheiten mit lizenzierten Trainern\nTop-Trainingsmaterial\nVerpflegung während des gesamten Camps\nviel\, viel Spaß\n\nInformationen & Anmeldungen:\nSV Fußballschule\nJörg-Friedrich Schmidt\, Leiter der SV Fußballschule\n0170 / 938 04 16\nj.schmidt@sv-sportfoerderung.de \nDein Trainerteam\nGuido BuchwaldWeltmeisterHerbert AppelTrainerWolfgang BartuschCheftrainerUli ZinkeTrainerJörg-Friedrich SchmidtLeiter SV FußballschuleUwe ZenknerTrainerJürgen HartmannTrainerSandro MohrTrainer
URL:https://www.sv-sportfoerderung.de/event/sv-fussballcamp-beim-1-fc-altburg/
LOCATION:Sportheim 1. FC Altburg\, Speßhardter Straße 42\, Calw\, 75365\, Deutschland
CATEGORIES:Fußball
ATTACH;FMTTYPE=image/jpeg:https://www.sv-sportfoerderung.de/wp-content/uploads/2019/01/sv_fussballcamp-event-cover.jpg
END:VEVENT
BEGIN:VEVENT
DTSTART;VALUE=DATE:20260529
DTEND;VALUE=DATE:20260601
DTSTAMP:20260424T163331
CREATED:20251118T042428Z
LAST-MODIFIED:20251130T123727Z
UID:1839-1780012800-1780271999@www.sv-sportfoerderung.de
SUMMARY:SV Fußballcamp beim SC 07 Münchholzhausen/Dutenhofen
DESCRIPTION:Online-Anmeldungen:\nNutzen Sie das Bild unterhalb dieses Textes als Link zur Anmeldung.\n \nCamp-Details:\nFür Mädchen und Jungen von 6-15 Jahren \nGastgeber: SC 07 Münchholzhausen/Dutenhofen\nmit freundlicher Unterstützung: SV Generalagentur Marco Emmerich \nIm Teilnehmerbeitrag von 99\,- Euro sind enthalten: \n\nAusrüstungspaket von JAKO (Trikot\, Hose\, Stutzen\, Trinkflasche und Fußball)\nprofessionelle Trainingseinheiten mit lizenzierten Trainern\nTop-Trainingsmaterial\nVerpflegung während des gesamten Camps\nviel\, viel Spaß\n\nInformationen & Anmeldungen:\nSV Fußballschule\nJörg-Friedrich Schmidt\, Leiter der SV Fußballschule\n0170 / 938 04 16\nj.schmidt@sv-sportfoerderung.de \nDein Trainerteam\nGuido BuchwaldWeltmeisterHerbert AppelTrainerWolfgang BartuschCheftrainerUli ZinkeTrainerJörg-Friedrich SchmidtLeiter SV FußballschuleUwe ZenknerTrainerJürgen HartmannTrainerSandro MohrTrainer
URL:https://www.sv-sportfoerderung.de/event/sv-fussballcamp-beim-sc-07-muenchholzhausen-dutenhofen/
LOCATION:SC Münchholzhausen/Dutenhofen\, Schulstraße\, Wetzlar\, 35581\, Deutschland
CATEGORIES:Fußball
ATTACH;FMTTYPE=image/jpeg:https://www.sv-sportfoerderung.de/wp-content/uploads/2019/01/sv_fussballcamp-event-cover.jpg
END:VEVENT
BEGIN:VEVENT
DTSTART;VALUE=DATE:20260612
DTEND;VALUE=DATE:20260615
DTSTAMP:20260424T163331
CREATED:20251114T072519Z
LAST-MODIFIED:20251130T123626Z
UID:1831-1781222400-1781481599@www.sv-sportfoerderung.de
SUMMARY:SV Fußballcamp bei der SG Edelzell
DESCRIPTION:Online-Anmeldungen:\nNutzen Sie das Bild unterhalb dieses Textes als Link zur Anmeldung.\n \nCamp-Details:\nFür Mädchen und Jungen von 6-15 Jahren \nGastgeber: SG Edelzell\nmit freundlicher Unterstützung: SV Generalagentur Andreas Bräutigam & Team  \nIm Teilnehmerbeitrag von 99\,- Euro sind enthalten: \n\nAusrüstungspaket von JAKO (Trikot\, Hose\, Stutzen\, Trinkflasche und Fußball)\nprofessionelle Trainingseinheiten mit lizenzierten Trainern\nTop-Trainingsmaterial\nVerpflegung während des gesamten Camps\nviel\, viel Spaß\n\nInformationen & Anmeldungen:\nSV Fußballschule\nJörg-Friedrich Schmidt\, Leiter der SV Fußballschule\n0170 / 938 04 16\nj.schmidt@sv-sportfoerderung.de \nDein Trainerteam\nGuido BuchwaldWeltmeisterHerbert AppelTrainerWolfgang BartuschCheftrainerUli ZinkeTrainerJörg-Friedrich SchmidtLeiter SV FußballschuleUwe ZenknerTrainerJürgen HartmannTrainerSandro MohrTrainer
URL:https://www.sv-sportfoerderung.de/event/sv-fussballcamp-bei-der-sg-edelzell/
LOCATION:SG Edelzell\, Engelhelmser Straße 24\, Fulda\, 36043\, Deutschland
CATEGORIES:Fußball
ATTACH;FMTTYPE=image/jpeg:https://www.sv-sportfoerderung.de/wp-content/uploads/2019/01/sv_fussballcamp-event-cover.jpg
END:VEVENT
BEGIN:VEVENT
DTSTART;VALUE=DATE:20260619
DTEND;VALUE=DATE:20260622
DTSTAMP:20260424T163331
CREATED:20251118T041639Z
LAST-MODIFIED:20251130T123435Z
UID:1834-1781827200-1782086399@www.sv-sportfoerderung.de
SUMMARY:SV Fußballcamp beim VfL Mühlbach
DESCRIPTION:Online-Anmeldungen:\nNutzen Sie das Bild unterhalb dieses Textes als Link zur Anmeldung.\n \nCamp-Details:\nFür Mädchen und Jungen von 6-15 Jahren \nGastgeber: VfL Mühlbach \nmit freundlicher Unterstützung: SV Generalagentur Dietmar Beisel  \nIm Teilnehmerbeitrag von 99\,- Euro sind enthalten: \n\nAusrüstungspaket von JAKO (Trikot\, Hose\, Stutzen\, Trinkflasche und Fußball)\nprofessionelle Trainingseinheiten mit lizenzierten Trainern\nTop-Trainingsmaterial\nVerpflegung während des gesamten Camps\nviel\, viel Spaß\n\nInformationen & Anmeldungen:\nSV Fußballschule\nJörg-Friedrich Schmidt\, Leiter der SV Fußballschule\n0170 / 938 04 16\nj.schmidt@sv-sportfoerderung.de \nDein Trainerteam\nGuido BuchwaldWeltmeisterHerbert AppelTrainerWolfgang BartuschCheftrainerUli ZinkeTrainerJörg-Friedrich SchmidtLeiter SV FußballschuleUwe ZenknerTrainerJürgen HartmannTrainerSandro MohrTrainer
URL:https://www.sv-sportfoerderung.de/event/sv-fussballcamp-beim-vfl-muehlbach/
LOCATION:VfL Mühlbach\, Steinbruchweg 9\, Eppingen/Mühlbach\, Baden-Württemberg\, 75031
CATEGORIES:Fußball
ATTACH;FMTTYPE=image/jpeg:https://www.sv-sportfoerderung.de/wp-content/uploads/2019/01/sv_fussballcamp-event-cover.jpg
END:VEVENT
BEGIN:VEVENT
DTSTART;VALUE=DATE:20260626
DTEND;VALUE=DATE:20260629
DTSTAMP:20260424T163331
CREATED:20251118T044614Z
LAST-MODIFIED:20251130T123101Z
UID:1853-1782432000-1782691199@www.sv-sportfoerderung.de
SUMMARY:SV Fußballcamp bei den Sportfreunden Elzach-Yach
DESCRIPTION:Online-Anmeldungen:\nNutzen Sie das Bild unterhalb dieses Textes als Link zur Anmeldung.\n \nCamp-Details:\nFür Mädchen und Jungen von 6-15 Jahren \nGastgeber: Sportfreunden Elzach-Yach\nmit freundlicher Unterstützung: SV Team Allgaier GmbH  \nIm Teilnehmerbeitrag von 99\,- Euro sind enthalten: \n\nAusrüstungspaket von JAKO (Trikot\, Hose\, Stutzen\, Trinkflasche und Fußball)\nprofessionelle Trainingseinheiten mit lizenzierten Trainern\nTop-Trainingsmaterial\nVerpflegung während des gesamten Camps\nviel\, viel Spaß\n\nInformationen & Anmeldungen:\nSV Fußballschule\nJörg-Friedrich Schmidt\, Leiter der SV Fußballschule\n0170 / 938 04 16\nj.schmidt@sv-sportfoerderung.de \nDein Trainerteam\nGuido BuchwaldWeltmeisterHerbert AppelTrainerWolfgang BartuschCheftrainerUli ZinkeTrainerJörg-Friedrich SchmidtLeiter SV FußballschuleUwe ZenknerTrainerJürgen HartmannTrainerSandro MohrTrainer
URL:https://www.sv-sportfoerderung.de/event/sv-fussballcamp-bei-den-sportfreunden-elzach-yach/
LOCATION:Werner-Gießler-Arena\, Schwarzwaldstraße 3\, Elzach\, 79215
CATEGORIES:Fußball
ATTACH;FMTTYPE=image/jpeg:https://www.sv-sportfoerderung.de/wp-content/uploads/2019/01/sv_fussballcamp-event-cover.jpg
ORGANIZER;CN="Sportfreunde Elzach - Yach 2002 e.V.":MAILTO:infos@sf-elzach-yach.de
END:VEVENT
BEGIN:VEVENT
DTSTART;VALUE=DATE:20260629
DTEND;VALUE=DATE:20260702
DTSTAMP:20260424T163331
CREATED:20251118T042047Z
LAST-MODIFIED:20251130T123016Z
UID:1835-1782691200-1782950399@www.sv-sportfoerderung.de
SUMMARY:SV Fußballcamp beim TSV Landau
DESCRIPTION:Online-Anmeldungen:\nNutzen Sie das Bild unterhalb dieses Textes als Link zur Anmeldung.\n \nCamp-Details:\nFür Mädchen und Jungen von 6-15 Jahren \nGastgeber: TSV Landau\nmit freundlicher Unterstützung: SV Generalagentur Arndt Knackstedt \nIm Teilnehmerbeitrag von 129\,- Euro sind enthalten: \n\nAusrüstungspaket von JAKO (Trikot\, Hose\, Stutzen\, Trinkflasche und Fußball)\nprofessionelle Trainingseinheiten mit lizenzierten Trainern\nTop-Trainingsmaterial\nVerpflegung während des gesamten Camps\nviel\, viel Spaß\n\nInformationen & Anmeldungen:\nSV Fußballschule\nJörg-Friedrich Schmidt\, Leiter der SV Fußballschule\n0170 / 938 04 16\nj.schmidt@sv-sportfoerderung.de \nDein Trainerteam\nGuido BuchwaldWeltmeisterHerbert AppelTrainerWolfgang BartuschCheftrainerUli ZinkeTrainerJörg-Friedrich SchmidtLeiter SV FußballschuleUwe ZenknerTrainerJürgen HartmannTrainerSandro MohrTrainer
URL:https://www.sv-sportfoerderung.de/event/sv-fussballcamp-beim-tsv-landau/
LOCATION:Sportplatz Bad Arolsen-Landau\, Burggrund 3\, Bad Arolsen-Landau\, 34454\, Deutschland
CATEGORIES:Fußball
ATTACH;FMTTYPE=image/jpeg:https://www.sv-sportfoerderung.de/wp-content/uploads/2019/01/sv_fussballcamp-event-cover.jpg
ORGANIZER;CN="TSV Landau":MAILTO:steinbach.marco@web.de
END:VEVENT
BEGIN:VEVENT
DTSTART;VALUE=DATE:20260710
DTEND;VALUE=DATE:20260713
DTSTAMP:20260424T163331
CREATED:20251118T045546Z
LAST-MODIFIED:20251130T121516Z
UID:1855-1783641600-1783900799@www.sv-sportfoerderung.de
SUMMARY:SV Fußballcamp bei der JSG Oberwesterwald
DESCRIPTION:Online-Anmeldungen:\nNutzen Sie das Bild unterhalb dieses Textes als Link zur Anmeldung.\n \nCamp-Details:\nFür Mädchen und Jungen von 6-15 Jahren \nGastgeber: JSG Oberwesterwald \nmit freundlicher Unterstützung: SV Generalagentur Benjamin Becker \nIm Teilnehmerbeitrag von 99\,- Euro sind enthalten: \n\nAusrüstungspaket von JAKO (Trikot\, Hose\, Stutzen\, Trinkflasche und Fußball)\nprofessionelle Trainingseinheiten mit lizenzierten Trainern\nTop-Trainingsmaterial\nVerpflegung während des gesamten Camps\nviel\, viel Spaß\n\nInformationen & Anmeldungen:\nSV Fußballschule\nJörg-Friedrich Schmidt\, Leiter der SV Fußballschule\n0170 / 938 04 16\nj.schmidt@sv-sportfoerderung.de \nDein Trainerteam\nGuido BuchwaldWeltmeisterHerbert AppelTrainerWolfgang BartuschCheftrainerUli ZinkeTrainerJörg-Friedrich SchmidtLeiter SV FußballschuleUwe ZenknerTrainerJürgen HartmannTrainerSandro MohrTrainer
URL:https://www.sv-sportfoerderung.de/event/sv-fussballcamp-bei-der-jsg-oberwesterwald/
LOCATION:JSG Oberwesterwald\, Grube-Victoria-Straße\, Höhn\, 56462
CATEGORIES:Fußball
ATTACH;FMTTYPE=image/jpeg:https://www.sv-sportfoerderung.de/wp-content/uploads/2019/01/sv_fussballcamp-event-cover.jpg
ORGANIZER;CN="JSG Oberwesterwald":MAILTO:kontakt@jfv-oww.de
END:VEVENT
BEGIN:VEVENT
DTSTART;VALUE=DATE:20260717
DTEND;VALUE=DATE:20260720
DTSTAMP:20260424T163331
CREATED:20251129T070648Z
LAST-MODIFIED:20251130T121406Z
UID:1864-1784246400-1784505599@www.sv-sportfoerderung.de
SUMMARY:SV Fußballcamp beim TSV Owen mit der SGM Owen-Unterlenningen
DESCRIPTION:Online-Anmeldungen:\nNutzen Sie das Bild unterhalb dieses Textes als Link zur Anmeldung.\n \nCamp-Details:\nFür Mädchen und Jungen von 6-15 Jahren \nGastgeber: TSV Owen mit der SGM Owen-Unterlenningen \nmit freundlicher Unterstützung: SV Gebietsdirektion Owen – Schmid-Raichle · Precker GbR  \nIm Teilnehmerbeitrag von 99\,- Euro sind enthalten: \n\nAusrüstungspaket von JAKO (Trikot\, Hose\, Stutzen\, Trinkflasche und Fußball)\nprofessionelle Trainingseinheiten mit lizenzierten Trainern\nTop-Trainingsmaterial\nVerpflegung während des gesamten Camps\nviel\, viel Spaß\n\nInformationen & Anmeldungen:\nSV Fußballschule\nJörg-Friedrich Schmidt\, Leiter der SV Fußballschule\n0170 / 938 04 16\nj.schmidt@sv-sportfoerderung.de \nDein Trainerteam\nGuido BuchwaldWeltmeisterHerbert AppelTrainerWolfgang BartuschCheftrainerUli ZinkeTrainerJörg-Friedrich SchmidtLeiter SV FußballschuleUwe ZenknerTrainerJürgen HartmannTrainerSandro MohrTrainer
URL:https://www.sv-sportfoerderung.de/event/sv-fussballcamp-beim-tsv-owen-mit-der-sgm-owen-unterlenningen/
LOCATION:TSV Owen\, Lauterweg 39\, Owen\, Baden-Württemberg\, 73277
CATEGORIES:Fußball
ATTACH;FMTTYPE=image/jpeg:https://www.sv-sportfoerderung.de/wp-content/uploads/2019/01/sv_fussballcamp-event-cover.jpg
ORGANIZER;CN="TSV Owen - Stefanie Mayer":MAILTO:jugendleitung_sgm-owul@outlook.de
END:VEVENT
BEGIN:VEVENT
DTSTART;VALUE=DATE:20260724
DTEND;VALUE=DATE:20260727
DTSTAMP:20260424T163331
CREATED:20251211T173232Z
LAST-MODIFIED:20251211T173232Z
UID:1928-1784851200-1785110399@www.sv-sportfoerderung.de
SUMMARY:SV Fußballcamp beim FC Östringen
DESCRIPTION:Online-Anmeldungen:\nNutzen Sie das Bild unterhalb dieses Textes als Link zur Anmeldung.\n \nCamp-Details:\nFür Mädchen und Jungen von 6-15 Jahren \nGastgeber: FC Östringen \nmit freundlicher Unterstützung: SV Generalagentur Alexander Jirgal  \nIm Teilnehmerbeitrag von 99\,- Euro sind enthalten: \n\nAusrüstungspaket von JAKO (Trikot\, Hose\, Stutzen\, Trinkflasche und Fußball)\nprofessionelle Trainingseinheiten mit lizenzierten Trainern\nTop-Trainingsmaterial\nVerpflegung während des gesamten Camps\nviel\, viel Spaß\n\nInformationen & Anmeldungen:\nSV Fußballschule\nJörg-Friedrich Schmidt\, Leiter der SV Fußballschule\n0170 / 938 04 16\nj.schmidt@sv-sportfoerderung.de \nDein Trainerteam\nGuido BuchwaldWeltmeisterHerbert AppelTrainerWolfgang BartuschCheftrainerUli ZinkeTrainerJörg-Friedrich SchmidtLeiter SV FußballschuleUwe ZenknerTrainerJürgen HartmannTrainerSandro MohrTrainer
URL:https://www.sv-sportfoerderung.de/event/sv-fussballcamp-beim-fc-oestringen/
LOCATION:Sportplatz Östringen\, Waldstraße 4\, Östringen\, 76684\, Deutschland
CATEGORIES:Fußball
ATTACH;FMTTYPE=image/jpeg:https://www.sv-sportfoerderung.de/wp-content/uploads/2019/01/sv_fussballcamp-event-cover.jpg
END:VEVENT
BEGIN:VEVENT
DTSTART;VALUE=DATE:20260803
DTEND;VALUE=DATE:20260806
DTSTAMP:20260424T163331
CREATED:20251130T120127Z
LAST-MODIFIED:20251130T121331Z
UID:1900-1785715200-1785974399@www.sv-sportfoerderung.de
SUMMARY:SV Fußballcamp bei den SF Eggenrot
DESCRIPTION:Online-Anmeldungen:\nNutzen Sie das Bild unterhalb dieses Textes als Link zur Anmeldung.\n \nCamp-Details:\nFür Mädchen und Jungen von 6-15 Jahren \nGastgeber: SF Eggenrot \nmit freundlicher Unterstützung: SV Geschäftsstelle Reisacher & Silbermann OHG \nIm Teilnehmerbeitrag von 99\,- Euro sind enthalten: \n\nAusrüstungspaket von JAKO (Trikot\, Hose\, Stutzen\, Trinkflasche und Fußball)\nprofessionelle Trainingseinheiten mit lizenzierten Trainern\nTop-Trainingsmaterial\nVerpflegung während des gesamten Camps\nviel\, viel Spaß\n\nInformationen & Anmeldungen:\nSV Fußballschule\nJörg-Friedrich Schmidt\, Leiter der SV Fußballschule\n0170 / 938 04 16\nj.schmidt@sv-sportfoerderung.de \nDein Trainerteam\nGuido BuchwaldWeltmeisterHerbert AppelTrainerWolfgang BartuschCheftrainerUli ZinkeTrainerJörg-Friedrich SchmidtLeiter SV FußballschuleUwe ZenknerTrainerJürgen HartmannTrainerSandro MohrTrainer
URL:https://www.sv-sportfoerderung.de/event/sv-fussballcamp-beim-tsv-owen-mit-den-sf-eggenrot/
LOCATION:Sportfreunde 1946 Eggenrot e.V.\, Altmannsroter Str. 6\, Ellwangen\, 73479\, Deutschland
CATEGORIES:Fußball
ATTACH;FMTTYPE=image/jpeg:https://www.sv-sportfoerderung.de/wp-content/uploads/2019/01/sv_fussballcamp-event-cover.jpg
END:VEVENT
BEGIN:VEVENT
DTSTART;VALUE=DATE:20260807
DTEND;VALUE=DATE:20260810
DTSTAMP:20260424T163331
CREATED:20251130T120944Z
LAST-MODIFIED:20251130T121255Z
UID:1899-1786060800-1786319999@www.sv-sportfoerderung.de
SUMMARY:SV Fußballcamp bei der SV Viktoria Klein-Zimmern 1945 e.V.
DESCRIPTION:Online-Anmeldungen:\nNutzen Sie das Bild unterhalb dieses Textes als Link zur Anmeldung.\n \nCamp-Details:\nFür Mädchen und Jungen von 6-15 Jahren \nGastgeber: SV Viktoria Klein-Zimmern 1945 e.V.\nmit freundlicher Unterstützung: SV Generalagentur Björn Bauer  \nIm Teilnehmerbeitrag von 99\,- Euro sind enthalten: \n\nAusrüstungspaket von JAKO (Trikot\, Hose\, Stutzen\, Trinkflasche und Fußball)\nprofessionelle Trainingseinheiten mit lizenzierten Trainern\nTop-Trainingsmaterial\nVerpflegung während des gesamten Camps\nviel\, viel Spaß\n\nInformationen & Anmeldungen:\nSV Fußballschule\nJörg-Friedrich Schmidt\, Leiter der SV Fußballschule\n0170 / 938 04 16\nj.schmidt@sv-sportfoerderung.de \nDein Trainerteam\nGuido BuchwaldWeltmeisterHerbert AppelTrainerWolfgang BartuschCheftrainerUli ZinkeTrainerJörg-Friedrich SchmidtLeiter SV FußballschuleUwe ZenknerTrainerJürgen HartmannTrainerSandro MohrTrainer
URL:https://www.sv-sportfoerderung.de/event/sv-fussballcamp-beim-tsv-owen-mit-der-sv-viktoria-klein-zimmern-1945-e-v/
LOCATION:SV Viktoria Klein-Zimmern\, Burgstraße 18\, Groß-Zimmern\, Hessen\, 64846
CATEGORIES:Fußball
ATTACH;FMTTYPE=image/jpeg:https://www.sv-sportfoerderung.de/wp-content/uploads/2019/01/sv_fussballcamp-event-cover.jpg
ORGANIZER;CN="SV Viktoria Klein-Zimmern 1945 e.V.":MAILTO:info@vik-klz.de
END:VEVENT
BEGIN:VEVENT
DTSTART;VALUE=DATE:20260821
DTEND;VALUE=DATE:20260824
DTSTAMP:20260424T163331
CREATED:20251211T172910Z
LAST-MODIFIED:20251211T172910Z
UID:1923-1787270400-1787529599@www.sv-sportfoerderung.de
SUMMARY:SV Fußballcamp beim TSV Dodenau
DESCRIPTION:Online-Anmeldungen:\nNutzen Sie das Bild unterhalb dieses Textes als Link zur Anmeldung.\n \nCamp-Details:\nFür Mädchen und Jungen von 6-15 Jahren \nGastgeber: TSV Dodenau \nmit freundlicher Unterstützung: SV Generalagentur Frank Kohl  \nIm Teilnehmerbeitrag von 99\,- Euro sind enthalten: \n\nAusrüstungspaket von JAKO (Trikot\, Hose\, Stutzen\, Trinkflasche und Fußball)\nprofessionelle Trainingseinheiten mit lizenzierten Trainern\nTop-Trainingsmaterial\nVerpflegung während des gesamten Camps\nviel\, viel Spaß\n\nInformationen & Anmeldungen:\nSV Fußballschule\nJörg-Friedrich Schmidt\, Leiter der SV Fußballschule\n0170 / 938 04 16\nj.schmidt@sv-sportfoerderung.de \nDein Trainerteam\nGuido BuchwaldWeltmeisterHerbert AppelTrainerWolfgang BartuschCheftrainerUli ZinkeTrainerJörg-Friedrich SchmidtLeiter SV FußballschuleUwe ZenknerTrainerJürgen HartmannTrainerSandro MohrTrainer
URL:https://www.sv-sportfoerderung.de/event/sv-fussballcamp-beim-tsv-dodenau/
LOCATION:TSV Dodenau\, Jahnstraße 10\, Battenberg\, 35088\, Deutschland
CATEGORIES:Fußball
ATTACH;FMTTYPE=image/jpeg:https://www.sv-sportfoerderung.de/wp-content/uploads/2019/01/sv_fussballcamp-event-cover.jpg
ORGANIZER;CN="TSV Dodenau":MAILTO:info@tsvdodenau.de
END:VEVENT
END:VCALENDAR