BEGIN:VCALENDAR
VERSION:2.0
PRODID:-//SV Sportförderung - ECPv6.15.11//NONSGML v1.0//EN
CALSCALE:GREGORIAN
METHOD:PUBLISH
X-ORIGINAL-URL:https://www.sv-sportfoerderung.de
X-WR-CALDESC:Veranstaltungen für SV Sportförderung
REFRESH-INTERVAL;VALUE=DURATION:PT1H
X-Robots-Tag:noindex
X-PUBLISHED-TTL:PT1H
BEGIN:VTIMEZONE
TZID:Europe/Berlin
BEGIN:DAYLIGHT
TZOFFSETFROM:+0100
TZOFFSETTO:+0200
TZNAME:CEST
DTSTART:20250330T010000
END:DAYLIGHT
BEGIN:STANDARD
TZOFFSETFROM:+0200
TZOFFSETTO:+0100
TZNAME:CET
DTSTART:20251026T010000
END:STANDARD
BEGIN:DAYLIGHT
TZOFFSETFROM:+0100
TZOFFSETTO:+0200
TZNAME:CEST
DTSTART:20260329T010000
END:DAYLIGHT
BEGIN:STANDARD
TZOFFSETFROM:+0200
TZOFFSETTO:+0100
TZNAME:CET
DTSTART:20261025T010000
END:STANDARD
BEGIN:DAYLIGHT
TZOFFSETFROM:+0100
TZOFFSETTO:+0200
TZNAME:CEST
DTSTART:20270328T010000
END:DAYLIGHT
BEGIN:STANDARD
TZOFFSETFROM:+0200
TZOFFSETTO:+0100
TZNAME:CET
DTSTART:20271031T010000
END:STANDARD
END:VTIMEZONE
BEGIN:VEVENT
DTSTART;VALUE=DATE:20260307
DTEND;VALUE=DATE:20260308
DTSTAMP:20260425T054023
CREATED:20251130T101924Z
LAST-MODIFIED:20251130T110659Z
UID:1882-1772841600-1772927999@www.sv-sportfoerderung.de
SUMMARY:SV Handball-Action Day mit Weltmeister Christian "Blacky" Schwarzer bei der HSG Lohfelden/Vollmarshausen
DESCRIPTION:Online-Anmeldungen:\nNutzen Sie das Bild unterhalb dieses Textes als Link zur Anmeldung.\n \nCamp-Details:\nAm SV Handball-Action Day können bis zu 36 Spieler und Spielerinnen der Jahrgänge 2011 bis 2018 teilnehmen. \nGastgeber: HSG Lohfelden/Vollmarshausen\nmit freundlicher Unterstützung: SV Generalagentur Raphael Sentis \nIm Teilnehmerbeitrag von 44\,90\,- Euro sind enthalten: \n\nTrikot & Short\nTop-Trainingsmaterial\nVerpflegung während des gesamten Tages\nviel\, viel Spaß\n\n\n  \n  \n  \n  \n  \n 
URL:https://www.sv-sportfoerderung.de/event/sv-handball-action-day-mit-weltmeister-christian-blacky-schwarzer-bei-der-hsg-lohfelden-vollmarshausen/
LOCATION:Merzweckhalle Lohfelden\, Landesstraße 51a\, Lohfelden\, Hessen\, 34253
CATEGORIES:Handball
ATTACH;FMTTYPE=image/jpeg:https://www.sv-sportfoerderung.de/wp-content/uploads/2025/11/SV-Handballtag-TSF-Welzheim-2025-Selfi-Blacky.jpg
ORGANIZER;CN="HSG Lohfelden/Vollmarshausen":MAILTO:info@handball-lohfelden.de
END:VEVENT
BEGIN:VEVENT
DTSTART;VALUE=DATE:20260308
DTEND;VALUE=DATE:20260309
DTSTAMP:20260425T054023
CREATED:20251130T111430Z
LAST-MODIFIED:20251130T113012Z
UID:1891-1772928000-1773014399@www.sv-sportfoerderung.de
SUMMARY:SV Handball-Action Day mit Weltmeister Christian "Blacky" Schwarzer bei der JSG Dreiburgenstadt Felsberg
DESCRIPTION:Online-Anmeldungen:\nNutzen Sie das Bild unterhalb dieses Textes als Link zur Anmeldung.\n \nCamp-Details:\nAm SV Handball-Action Day können bis zu 36 Spieler und Spielerinnen der Jahrgänge 2011 bis 2018 teilnehmen. \nGastgeber: JSG Dreiburgenstadt Felsberg\nmit freundlicher Unterstützung: Kreissparkasse Schwalm-Eder  \nIm Teilnehmerbeitrag von 44\,90\,- Euro sind enthalten: \n\nTrikot & Short\nTop-Trainingsmaterial\nVerpflegung während des gesamten Tages\nviel\, viel Spaß\n\n\n  \n  \n  \n  \n  \n 
URL:https://www.sv-sportfoerderung.de/event/sv-handball-action-day-mit-weltmeister-christian-blacky-schwarzer-bei-der-jsg-dreiburgenstadt-felsberg/
LOCATION:Kreissporthalle\, Sportplatzstraße 1 i\, Felsberg\, Hessen\, 34587
CATEGORIES:Handball
ATTACH;FMTTYPE=image/jpeg:https://www.sv-sportfoerderung.de/wp-content/uploads/2025/11/SV-Handballtag-TSF-Welzheim-2025-Selfi-Blacky.jpg
ORGANIZER;CN="JSG Dreiburgenstadt Felsberg":MAILTO:info@jsg-dreiburgenstadt-felsberg.com
END:VEVENT
BEGIN:VEVENT
DTSTART;VALUE=DATE:20260321
DTEND;VALUE=DATE:20260322
DTSTAMP:20260425T054023
CREATED:20251215T121617Z
LAST-MODIFIED:20251215T121646Z
UID:1932-1774051200-1774137599@www.sv-sportfoerderung.de
SUMMARY:SV Handball-Action Day mit Weltmeister Christian "Blacky" Schwarzer bei der TG Rotenburg
DESCRIPTION:Online-Anmeldungen:\nNutzen Sie das Bild unterhalb dieses Textes als Link zur Anmeldung.\n \nCamp-Details:\nAm SV Handball-Action Day können bis zu 42 Spieler und Spielerinnen der Jahrgänge 2013 bis 2018 teilnehmen. \nGastgeber: TG Rotenburg\nmit freundlicher Unterstützung: SV Generalagentur Ferhat Yildiz  \nIm Teilnehmerbeitrag von 44\,90\,- Euro sind enthalten: \n\nTrikot & Short\nTop-Trainingsmaterial\nVerpflegung während des gesamten Tages\nviel\, viel Spaß\n\n\n  \n  \n  \n  \n  \n 
URL:https://www.sv-sportfoerderung.de/event/sv-handball-action-day-mit-weltmeister-christian-blacky-schwarzer-bei-der-tg-rotenburg/
LOCATION:Großsporthalle Rotenburg\, Breitinger Kirchweg\, Rotenburg\, 36199
CATEGORIES:Handball
ATTACH;FMTTYPE=image/jpeg:https://www.sv-sportfoerderung.de/wp-content/uploads/2025/11/SV-Handballtag-TSF-Welzheim-2025-Selfi-Blacky.jpg
END:VEVENT
END:VCALENDAR