BEGIN:VCALENDAR
VERSION:2.0
PRODID:-//SV Sportförderung - ECPv6.15.11//NONSGML v1.0//EN
CALSCALE:GREGORIAN
METHOD:PUBLISH
X-WR-CALNAME:SV Sportförderung
X-ORIGINAL-URL:https://www.sv-sportfoerderung.de
X-WR-CALDESC:Veranstaltungen für SV Sportförderung
REFRESH-INTERVAL;VALUE=DURATION:PT1H
X-Robots-Tag:noindex
X-PUBLISHED-TTL:PT1H
BEGIN:VTIMEZONE
TZID:Europe/Berlin
BEGIN:DAYLIGHT
TZOFFSETFROM:+0100
TZOFFSETTO:+0200
TZNAME:CEST
DTSTART:20250330T010000
END:DAYLIGHT
BEGIN:STANDARD
TZOFFSETFROM:+0200
TZOFFSETTO:+0100
TZNAME:CET
DTSTART:20251026T010000
END:STANDARD
BEGIN:DAYLIGHT
TZOFFSETFROM:+0100
TZOFFSETTO:+0200
TZNAME:CEST
DTSTART:20260329T010000
END:DAYLIGHT
BEGIN:STANDARD
TZOFFSETFROM:+0200
TZOFFSETTO:+0100
TZNAME:CET
DTSTART:20261025T010000
END:STANDARD
BEGIN:DAYLIGHT
TZOFFSETFROM:+0100
TZOFFSETTO:+0200
TZNAME:CEST
DTSTART:20270328T010000
END:DAYLIGHT
BEGIN:STANDARD
TZOFFSETFROM:+0200
TZOFFSETTO:+0100
TZNAME:CET
DTSTART:20271031T010000
END:STANDARD
END:VTIMEZONE
BEGIN:VEVENT
DTSTART;VALUE=DATE:20260612
DTEND;VALUE=DATE:20260615
DTSTAMP:20260425T054623
CREATED:20251114T072519Z
LAST-MODIFIED:20251130T123626Z
UID:1831-1781222400-1781481599@www.sv-sportfoerderung.de
SUMMARY:SV Fußballcamp bei der SG Edelzell
DESCRIPTION:Online-Anmeldungen:\nNutzen Sie das Bild unterhalb dieses Textes als Link zur Anmeldung.\n \nCamp-Details:\nFür Mädchen und Jungen von 6-15 Jahren \nGastgeber: SG Edelzell\nmit freundlicher Unterstützung: SV Generalagentur Andreas Bräutigam & Team  \nIm Teilnehmerbeitrag von 99\,- Euro sind enthalten: \n\nAusrüstungspaket von JAKO (Trikot\, Hose\, Stutzen\, Trinkflasche und Fußball)\nprofessionelle Trainingseinheiten mit lizenzierten Trainern\nTop-Trainingsmaterial\nVerpflegung während des gesamten Camps\nviel\, viel Spaß\n\nInformationen & Anmeldungen:\nSV Fußballschule\nJörg-Friedrich Schmidt\, Leiter der SV Fußballschule\n0170 / 938 04 16\nj.schmidt@sv-sportfoerderung.de \nDein Trainerteam\nGuido BuchwaldWeltmeisterHerbert AppelTrainerWolfgang BartuschCheftrainerUli ZinkeTrainerJörg-Friedrich SchmidtLeiter SV FußballschuleUwe ZenknerTrainerJürgen HartmannTrainerSandro MohrTrainer
URL:https://www.sv-sportfoerderung.de/event/sv-fussballcamp-bei-der-sg-edelzell/
LOCATION:SG Edelzell\, Engelhelmser Straße 24\, Fulda\, 36043\, Deutschland
CATEGORIES:Fußball
ATTACH;FMTTYPE=image/jpeg:https://www.sv-sportfoerderung.de/wp-content/uploads/2019/01/sv_fussballcamp-event-cover.jpg
END:VEVENT
BEGIN:VEVENT
DTSTART;VALUE=DATE:20260619
DTEND;VALUE=DATE:20260622
DTSTAMP:20260425T054623
CREATED:20251118T041639Z
LAST-MODIFIED:20251130T123435Z
UID:1834-1781827200-1782086399@www.sv-sportfoerderung.de
SUMMARY:SV Fußballcamp beim VfL Mühlbach
DESCRIPTION:Online-Anmeldungen:\nNutzen Sie das Bild unterhalb dieses Textes als Link zur Anmeldung.\n \nCamp-Details:\nFür Mädchen und Jungen von 6-15 Jahren \nGastgeber: VfL Mühlbach \nmit freundlicher Unterstützung: SV Generalagentur Dietmar Beisel  \nIm Teilnehmerbeitrag von 99\,- Euro sind enthalten: \n\nAusrüstungspaket von JAKO (Trikot\, Hose\, Stutzen\, Trinkflasche und Fußball)\nprofessionelle Trainingseinheiten mit lizenzierten Trainern\nTop-Trainingsmaterial\nVerpflegung während des gesamten Camps\nviel\, viel Spaß\n\nInformationen & Anmeldungen:\nSV Fußballschule\nJörg-Friedrich Schmidt\, Leiter der SV Fußballschule\n0170 / 938 04 16\nj.schmidt@sv-sportfoerderung.de \nDein Trainerteam\nGuido BuchwaldWeltmeisterHerbert AppelTrainerWolfgang BartuschCheftrainerUli ZinkeTrainerJörg-Friedrich SchmidtLeiter SV FußballschuleUwe ZenknerTrainerJürgen HartmannTrainerSandro MohrTrainer
URL:https://www.sv-sportfoerderung.de/event/sv-fussballcamp-beim-vfl-muehlbach/
LOCATION:VfL Mühlbach\, Steinbruchweg 9\, Eppingen/Mühlbach\, Baden-Württemberg\, 75031
CATEGORIES:Fußball
ATTACH;FMTTYPE=image/jpeg:https://www.sv-sportfoerderung.de/wp-content/uploads/2019/01/sv_fussballcamp-event-cover.jpg
END:VEVENT
BEGIN:VEVENT
DTSTART;VALUE=DATE:20260626
DTEND;VALUE=DATE:20260629
DTSTAMP:20260425T054623
CREATED:20251118T044614Z
LAST-MODIFIED:20251130T123101Z
UID:1853-1782432000-1782691199@www.sv-sportfoerderung.de
SUMMARY:SV Fußballcamp bei den Sportfreunden Elzach-Yach
DESCRIPTION:Online-Anmeldungen:\nNutzen Sie das Bild unterhalb dieses Textes als Link zur Anmeldung.\n \nCamp-Details:\nFür Mädchen und Jungen von 6-15 Jahren \nGastgeber: Sportfreunden Elzach-Yach\nmit freundlicher Unterstützung: SV Team Allgaier GmbH  \nIm Teilnehmerbeitrag von 99\,- Euro sind enthalten: \n\nAusrüstungspaket von JAKO (Trikot\, Hose\, Stutzen\, Trinkflasche und Fußball)\nprofessionelle Trainingseinheiten mit lizenzierten Trainern\nTop-Trainingsmaterial\nVerpflegung während des gesamten Camps\nviel\, viel Spaß\n\nInformationen & Anmeldungen:\nSV Fußballschule\nJörg-Friedrich Schmidt\, Leiter der SV Fußballschule\n0170 / 938 04 16\nj.schmidt@sv-sportfoerderung.de \nDein Trainerteam\nGuido BuchwaldWeltmeisterHerbert AppelTrainerWolfgang BartuschCheftrainerUli ZinkeTrainerJörg-Friedrich SchmidtLeiter SV FußballschuleUwe ZenknerTrainerJürgen HartmannTrainerSandro MohrTrainer
URL:https://www.sv-sportfoerderung.de/event/sv-fussballcamp-bei-den-sportfreunden-elzach-yach/
LOCATION:Werner-Gießler-Arena\, Schwarzwaldstraße 3\, Elzach\, 79215
CATEGORIES:Fußball
ATTACH;FMTTYPE=image/jpeg:https://www.sv-sportfoerderung.de/wp-content/uploads/2019/01/sv_fussballcamp-event-cover.jpg
ORGANIZER;CN="Sportfreunde Elzach - Yach 2002 e.V.":MAILTO:infos@sf-elzach-yach.de
END:VEVENT
BEGIN:VEVENT
DTSTART;VALUE=DATE:20260629
DTEND;VALUE=DATE:20260702
DTSTAMP:20260425T054623
CREATED:20251118T042047Z
LAST-MODIFIED:20251130T123016Z
UID:1835-1782691200-1782950399@www.sv-sportfoerderung.de
SUMMARY:SV Fußballcamp beim TSV Landau
DESCRIPTION:Online-Anmeldungen:\nNutzen Sie das Bild unterhalb dieses Textes als Link zur Anmeldung.\n \nCamp-Details:\nFür Mädchen und Jungen von 6-15 Jahren \nGastgeber: TSV Landau\nmit freundlicher Unterstützung: SV Generalagentur Arndt Knackstedt \nIm Teilnehmerbeitrag von 129\,- Euro sind enthalten: \n\nAusrüstungspaket von JAKO (Trikot\, Hose\, Stutzen\, Trinkflasche und Fußball)\nprofessionelle Trainingseinheiten mit lizenzierten Trainern\nTop-Trainingsmaterial\nVerpflegung während des gesamten Camps\nviel\, viel Spaß\n\nInformationen & Anmeldungen:\nSV Fußballschule\nJörg-Friedrich Schmidt\, Leiter der SV Fußballschule\n0170 / 938 04 16\nj.schmidt@sv-sportfoerderung.de \nDein Trainerteam\nGuido BuchwaldWeltmeisterHerbert AppelTrainerWolfgang BartuschCheftrainerUli ZinkeTrainerJörg-Friedrich SchmidtLeiter SV FußballschuleUwe ZenknerTrainerJürgen HartmannTrainerSandro MohrTrainer
URL:https://www.sv-sportfoerderung.de/event/sv-fussballcamp-beim-tsv-landau/
LOCATION:Sportplatz Bad Arolsen-Landau\, Burggrund 3\, Bad Arolsen-Landau\, 34454\, Deutschland
CATEGORIES:Fußball
ATTACH;FMTTYPE=image/jpeg:https://www.sv-sportfoerderung.de/wp-content/uploads/2019/01/sv_fussballcamp-event-cover.jpg
ORGANIZER;CN="TSV Landau":MAILTO:steinbach.marco@web.de
END:VEVENT
END:VCALENDAR